BEGIN:VCALENDAR
VERSION:2.0
PRODID:icalendar-ruby
CALSCALE:GREGORIAN
METHOD:PUBLISH
BEGIN:VEVENT
DTSTAMP:20260424T134429Z
UID:103-919635@templovictoria.com
DTSTART:20260606T000000Z
DTEND:20260607T220000Z
CLASS:PUBLIC
CREATED:20260423T115136
DESCRIPTION:Varones\, les extendemos una cordial invitación a participar e
 n nuestra Convención de Varones\, un tiempo especial de crecimiento espir
 itual\, compañerismo y fortalecimiento en la fe.\n Fecha límite para ins
 cribirse y realizar el pago: 13 de mayo. Te animamos a registrarte lo ante
 s posible para asegurar tu lugar.\nPara más información\, puedes comunic
 arte con el Hno. Edgar Quezada despues de cada servicio. \n¡No pierdas e
 sta oportunidad de ser parte de este gran evento!
LAST-MODIFIED:20260423T115136
LOCATION:
SUMMARY:Convención para Varones
URL;VALUE=URI:https://www.templovictoria.com/events/convencion-para-varones
 /2026-06-05
ATTACH;FILENAME=Varones.png;FMTTYPE=image/png:https://dq5pwpg1q8ru0.cloudfr
 ont.net/2026/04/23/18/49/37/366add4c-2be5-404f-a77b-8fa22c381625/Varones.p
 ng
END:VEVENT
END:VCALENDAR
