BEGIN:VCALENDAR
VERSION:2.0
PRODID:icalendar-ruby
CALSCALE:GREGORIAN
METHOD:PUBLISH
BEGIN:VEVENT
DTSTAMP:20260424T130534Z
UID:102-919632@templovictoria.com
DTSTART:20260508T020000Z
DTEND:20260508T033000Z
CLASS:PUBLIC
CREATED:20260423T114307
DESCRIPTION:Te invitamos cordialmente a asistir al Día Nacional de la Orac
 ión\, un tiempo especial de unidad\, fe y clamor.\nContaremos con la grat
 a visita de iglesias hermanas de todo el valle\, uniéndonos como un solo 
 cuerpo para buscar la presencia de Dios.\n¡No faltes! Será una noche de 
 bendición\, comunión y poder espiritual.\n¡Te esperamos con los brazos 
 abiertos!
LAST-MODIFIED:20260423T114307
LOCATION:69220 Victoria Dr. Cathedral City\, CA 92234
SUMMARY:Dia Internacional de Oracion
URL;VALUE=URI:https://www.templovictoria.com/events/dia-internacional-de-or
 acion/2026-05-07
ATTACH;FILENAME=National-Prayer-day-5.07.26.png;FMTTYPE=image/png:https://d
 q5pwpg1q8ru0.cloudfront.net/2026/04/23/18/42/16/25ff64d5-9572-4806-b5f4-5c
 d13ff01a1d/National-Prayer-day-5.07.26.png
END:VEVENT
END:VCALENDAR
