BEGIN:VCALENDAR
VERSION:2.0
PRODID:icalendar-ruby
CALSCALE:GREGORIAN
METHOD:PUBLISH
BEGIN:VEVENT
DTSTAMP:20260424T130223Z
UID:100-919629@templovictoria.com
DTSTART:20260502T020000Z
DTEND:20260502T033000Z
CLASS:PUBLIC
CREATED:20260423T113008
DESCRIPTION:Matrimonios\, los invitamos a disfrutar de un tiempo especial c
 on alabanzas\, convivencia\, refrigerio y una palabra de ánimo para forta
 lecer tu matrimonio.
LAST-MODIFIED:20260423T113008
LOCATION:69220 Victoria Dr. Cathedral City\, CA 92234
SUMMARY:HASTA QUE LA MUERTE NOS SEPARE
URL;VALUE=URI:https://www.templovictoria.com/events/hasta-que-la-muerte-nos
 -separe/2026-05-01
ATTACH;FILENAME=TV-Santuary--Eventos---not-often-3.png;FMTTYPE=image/png:ht
 tps://dq5pwpg1q8ru0.cloudfront.net/2026/04/23/18/30/08/6d4e5a77-915f-419a-
 aa56-747efadf8923/TV-Santuary--Eventos---not-often-3.png
END:VEVENT
END:VCALENDAR
