BEGIN:VCALENDAR
VERSION:2.0
PRODID:icalendar-ruby
CALSCALE:GREGORIAN
METHOD:PUBLISH
BEGIN:VEVENT
DTSTAMP:20260424T130345Z
UID:101-919630@templovictoria.com
DTSTART:20260429T020000Z
DTEND:20260429T033000Z
CLASS:PUBLIC
CREATED:20260423T113849
DESCRIPTION:Seminario para líderes y voluntarios para todos los que sirven
  en cualquier ministerio\, ya sea que aqui en Cathedral City  o en el min
 isterio de Desert Hot Springs\, a asistir a este seminario el martes de la
  otra semana\, 28 de abril - a las 7:00 p.m.  - aquí en Templo Victoria.
  ¡Será un tiempo especial de crecimiento y ánimo para seguir sirviendo 
 juntos!
LAST-MODIFIED:20260423T113849
LOCATION:69220 Victoria Dr. Cathedral City\, CA 92234
SUMMARY:Lideres y Voluntarios
URL;VALUE=URI:https://www.templovictoria.com/events/lideres-y-voluntarios/2
 026-04-28
ATTACH;FILENAME=TV-Santuary--Eventos---not-often-2.png;FMTTYPE=image/png:ht
 tps://dq5pwpg1q8ru0.cloudfront.net/2026/04/23/18/38/48/aeda5209-7f49-480a-
 aaa7-15cb681a5361/TV-Santuary--Eventos---not-often-2.png
END:VEVENT
END:VCALENDAR
