BEGIN:VCALENDAR
VERSION:2.0
PRODID:icalendar-ruby
CALSCALE:GREGORIAN
METHOD:PUBLISH
BEGIN:VEVENT
DTSTAMP:20260420T155406Z
UID:16-904249@templovictoria.com
DTSTART:20261021T020000Z
DTEND:20261021T030000Z
CLASS:PUBLIC
CREATED:20260420T072949
DESCRIPTION:Durante los últimos años hemos tenido experiencias increíble
 s de adoración y oración en nuestras reuniones de oración para Varones 
 en Desert Hot Springs. \n"También les refirió Jesús una parábola sobr
 e la necesidad de orar siempre\, y no desmayar..." Lucas 18:1\nVen Todo lo
 s martes a las 7:00pm\, y unete a este grupo de intercesores.
LAST-MODIFIED:20260420T072949
LOCATION:19990 Mountain View Rd. Desert Hot Springs\, CA 92241
SUMMARY:Oración para Varones
URL;VALUE=URI:https://www.templovictoria.com/events/oracion-para-varones/20
 26-10-20
ATTACH;FILENAME=TVsize-%284%29.jpg;FMTTYPE=image/jpeg:https://dq5pwpg1q8ru0
 .cloudfront.net/2025/02/05/23/14/50/69d5ff11-de8e-4d0e-b814-563c4304918d/T
 Vsize-%25284%2529.jpg
END:VEVENT
END:VCALENDAR
